BEGIN:VCALENDAR
VERSION:2.0
PRODID:-//Ozarks Coin Club - ECPv6.15.20//NONSGML v1.0//EN
CALSCALE:GREGORIAN
METHOD:PUBLISH
X-WR-CALNAME:Ozarks Coin Club
X-ORIGINAL-URL:https://www.ozarkscoinclub.org
X-WR-CALDESC:Events for Ozarks Coin Club
REFRESH-INTERVAL;VALUE=DURATION:PT1H
X-Robots-Tag:noindex
X-PUBLISHED-TTL:PT1H
BEGIN:VTIMEZONE
TZID:America/Chicago
BEGIN:DAYLIGHT
TZOFFSETFROM:-0600
TZOFFSETTO:-0500
TZNAME:CDT
DTSTART:20240310T080000
END:DAYLIGHT
BEGIN:STANDARD
TZOFFSETFROM:-0500
TZOFFSETTO:-0600
TZNAME:CST
DTSTART:20241103T070000
END:STANDARD
BEGIN:DAYLIGHT
TZOFFSETFROM:-0600
TZOFFSETTO:-0500
TZNAME:CDT
DTSTART:20250309T080000
END:DAYLIGHT
BEGIN:STANDARD
TZOFFSETFROM:-0500
TZOFFSETTO:-0600
TZNAME:CST
DTSTART:20251102T070000
END:STANDARD
BEGIN:DAYLIGHT
TZOFFSETFROM:-0600
TZOFFSETTO:-0500
TZNAME:CDT
DTSTART:20260308T080000
END:DAYLIGHT
BEGIN:STANDARD
TZOFFSETFROM:-0500
TZOFFSETTO:-0600
TZNAME:CST
DTSTART:20261101T070000
END:STANDARD
END:VTIMEZONE
BEGIN:VEVENT
DTSTART;TZID=America/Chicago:20250503T090000
DTEND;TZID=America/Chicago:20250503T150000
DTSTAMP:20260423T143420
CREATED:20250413T003616Z
LAST-MODIFIED:20250413T003618Z
UID:10000160-1746262800-1746284400@www.ozarkscoinclub.org
SUMMARY:The Lamar\, MO Coin and Collector Show
DESCRIPTION:The Lamar\, MO Coin and Collertor Show \nPlease see the attached Flyer
URL:https://www.ozarkscoinclub.org/event/the-lamar-mo-coin-and-collector-show/
LOCATION:Thiebaud Auditorium\, 105 East 11th Street\, Lamar\, MO\, 64759\, United States
CATEGORIES:Shows
ORGANIZER;CN="Dave Sorrick":MAILTO:ddsorrick@yahoo.com
END:VEVENT
BEGIN:VEVENT
DTSTART;TZID=America/Chicago:20250504T090000
DTEND;TZID=America/Chicago:20250504T140000
DTSTAMP:20260423T143420
CREATED:20250214T023210Z
LAST-MODIFIED:20250223T213448Z
UID:10000155-1746349200-1746367200@www.ozarkscoinclub.org
SUMMARY:The ARC coin show
DESCRIPTION:The ARC coin show
URL:https://www.ozarkscoinclub.org/event/the-arc-coin-show/2025-05-04/
LOCATION:American Legion Post #21\, 16701 East 40 Highway\, Independence\, MO\, 64055\, United States
CATEGORIES:Shows
END:VEVENT
BEGIN:VEVENT
DTSTART;TZID=America/Chicago:20250516T110000
DTEND;TZID=America/Chicago:20250517T150000
DTSTAMP:20260423T143420
CREATED:20250307T015536Z
LAST-MODIFIED:20250307T015537Z
UID:10000158-1747393200-1747494000@www.ozarkscoinclub.org
SUMMARY:65th Annual Coin & Hobby Show
DESCRIPTION:65th Annual Coin & Hobby Show \nPlease see the attached Flyer.
URL:https://www.ozarkscoinclub.org/event/65th-annual-coin-hobby-show/
LOCATION:Knights of Columbus Hall\, 1708 Elm Hills Blvd & S. 65 Hwy\, Sedalia\, MO\, United States
CATEGORIES:Shows
ORGANIZER;CN="Larry Grinstead":MAILTO:grnstd@sbcglobal.net
END:VEVENT
END:VCALENDAR