BEGIN:VCALENDAR
VERSION:2.0
PRODID:-//Ozarks Coin Club - ECPv6.15.20//NONSGML v1.0//EN
CALSCALE:GREGORIAN
METHOD:PUBLISH
X-ORIGINAL-URL:https://www.ozarkscoinclub.org
X-WR-CALDESC:Events for Ozarks Coin Club
REFRESH-INTERVAL;VALUE=DURATION:PT1H
X-Robots-Tag:noindex
X-PUBLISHED-TTL:PT1H
BEGIN:VTIMEZONE
TZID:America/Chicago
BEGIN:DAYLIGHT
TZOFFSETFROM:-0600
TZOFFSETTO:-0500
TZNAME:CDT
DTSTART:20240310T080000
END:DAYLIGHT
BEGIN:STANDARD
TZOFFSETFROM:-0500
TZOFFSETTO:-0600
TZNAME:CST
DTSTART:20241103T070000
END:STANDARD
BEGIN:DAYLIGHT
TZOFFSETFROM:-0600
TZOFFSETTO:-0500
TZNAME:CDT
DTSTART:20250309T080000
END:DAYLIGHT
BEGIN:STANDARD
TZOFFSETFROM:-0500
TZOFFSETTO:-0600
TZNAME:CST
DTSTART:20251102T070000
END:STANDARD
BEGIN:DAYLIGHT
TZOFFSETFROM:-0600
TZOFFSETTO:-0500
TZNAME:CDT
DTSTART:20260308T080000
END:DAYLIGHT
BEGIN:STANDARD
TZOFFSETFROM:-0500
TZOFFSETTO:-0600
TZNAME:CST
DTSTART:20261101T070000
END:STANDARD
END:VTIMEZONE
BEGIN:VEVENT
DTSTART;TZID=America/Chicago:20250601T090000
DTEND;TZID=America/Chicago:20250601T140000
DTSTAMP:20260422T045927
CREATED:20250214T023210Z
LAST-MODIFIED:20250223T213448Z
UID:10000156-1748768400-1748786400@www.ozarkscoinclub.org
SUMMARY:The ARC coin show
DESCRIPTION:The ARC coin show
URL:https://www.ozarkscoinclub.org/event/the-arc-coin-show/2025-06-01/
LOCATION:American Legion Post #21\, 16701 East 40 Highway\, Independence\, MO\, 64055\, United States
CATEGORIES:Shows
END:VEVENT
BEGIN:VEVENT
DTSTART;TZID=America/Chicago:20250603T180000
DTEND;TZID=America/Chicago:20250603T203000
DTSTAMP:20260422T045927
CREATED:20240705T050953Z
LAST-MODIFIED:20241121T012312Z
UID:10000031-1748973600-1748982600@www.ozarkscoinclub.org
SUMMARY:Club Meetings
DESCRIPTION:Social Time starts at 6:00 p.m. \nMeeting starts at 6:30 p.m.
URL:https://www.ozarkscoinclub.org/event/club-meetings/2025-06-03/
LOCATION:Discovery Center\, 438 East St. Louis Street\, Springfield\, MO\, 65806\, United States
END:VEVENT
BEGIN:VEVENT
DTSTART;TZID=America/Chicago:20250610T173000
DTEND;TZID=America/Chicago:20250610T220000
DTSTAMP:20260422T045927
CREATED:20250413T004733Z
LAST-MODIFIED:20250413T004733Z
UID:10000162-1749576600-1749592800@www.ozarkscoinclub.org
SUMMARY:Second Tuesday Coin & Sports Card Auction
DESCRIPTION:The Second Tuesday Coin and Sports Card Auction \nPlease see the attached Flyer. (Flyer is For June\, but they are every month)
URL:https://www.ozarkscoinclub.org/event/second-tuesday-coin-sports-card-auction/2025-06-10/
LOCATION:Border Town Auction House\, 611 Main\, Mindenmines\, MO\, 64769\, United States
END:VEVENT
BEGIN:VEVENT
DTSTART;TZID=America/Chicago:20250610T180000
DTEND;TZID=America/Chicago:20250610T200000
DTSTAMP:20260422T045927
CREATED:20240705T051217Z
LAST-MODIFIED:20240705T051217Z
UID:10000087-1749578400-1749585600@www.ozarkscoinclub.org
SUMMARY:Board Meeting
DESCRIPTION:Board Meeting starts at 6:00 p.m.
URL:https://www.ozarkscoinclub.org/event/board-meeting/2025-06-10/
LOCATION:Discovery Center\, 438 East St. Louis Street\, Springfield\, MO\, 65806\, United States
END:VEVENT
BEGIN:VEVENT
DTSTART;TZID=America/Chicago:20250612T100000
DTEND;TZID=America/Chicago:20250614T160000
DTSTAMP:20260422T045927
CREATED:20250223T213352Z
LAST-MODIFIED:20250223T213353Z
UID:10000157-1749722400-1749916800@www.ozarkscoinclub.org
SUMMARY:6th Annual Northeast Oklahoma Coin Show
DESCRIPTION:2025 Northeast Oklahoma Coin Show Flyer \nPlease see the attached Flyer.
URL:https://www.ozarkscoinclub.org/event/6th-annual-northeast-oklahoma-coin-show/
LOCATION:Ruffin Event Center\, 1950 East 71st Street\, Tulsa\, OK\, 74136\, United States
CATEGORIES:Shows
END:VEVENT
BEGIN:VEVENT
DTSTART;TZID=America/Chicago:20250628T090000
DTEND;TZID=America/Chicago:20250628T150000
DTSTAMP:20260422T045927
CREATED:20250307T020012Z
LAST-MODIFIED:20250311T221918Z
UID:10000159-1751101200-1751122800@www.ozarkscoinclub.org
SUMMARY:One Day Coin Show
DESCRIPTION:St. Louis One Day Coin Show \nPlease see the attached Flyer.
URL:https://www.ozarkscoinclub.org/event/one-day-coin-show-2/
LOCATION:Machinist Hall\, 12365 St. Charles Rock Road\, St. Louis\, MO\, 63044\, United States
CATEGORIES:Shows
END:VEVENT
END:VCALENDAR