BEGIN:VCALENDAR
VERSION:2.0
PRODID:-//Ozarks Coin Club - ECPv6.15.20//NONSGML v1.0//EN
CALSCALE:GREGORIAN
METHOD:PUBLISH
X-WR-CALNAME:Ozarks Coin Club
X-ORIGINAL-URL:https://www.ozarkscoinclub.org
X-WR-CALDESC:Events for Ozarks Coin Club
REFRESH-INTERVAL;VALUE=DURATION:PT1H
X-Robots-Tag:noindex
X-PUBLISHED-TTL:PT1H
BEGIN:VTIMEZONE
TZID:America/Chicago
BEGIN:DAYLIGHT
TZOFFSETFROM:-0600
TZOFFSETTO:-0500
TZNAME:CDT
DTSTART:20240310T080000
END:DAYLIGHT
BEGIN:STANDARD
TZOFFSETFROM:-0500
TZOFFSETTO:-0600
TZNAME:CST
DTSTART:20241103T070000
END:STANDARD
BEGIN:DAYLIGHT
TZOFFSETFROM:-0600
TZOFFSETTO:-0500
TZNAME:CDT
DTSTART:20250309T080000
END:DAYLIGHT
BEGIN:STANDARD
TZOFFSETFROM:-0500
TZOFFSETTO:-0600
TZNAME:CST
DTSTART:20251102T070000
END:STANDARD
BEGIN:DAYLIGHT
TZOFFSETFROM:-0600
TZOFFSETTO:-0500
TZNAME:CDT
DTSTART:20260308T080000
END:DAYLIGHT
BEGIN:STANDARD
TZOFFSETFROM:-0500
TZOFFSETTO:-0600
TZNAME:CST
DTSTART:20261101T070000
END:STANDARD
END:VTIMEZONE
BEGIN:VEVENT
DTSTART;TZID=America/Chicago:20250701T180000
DTEND;TZID=America/Chicago:20250701T203000
DTSTAMP:20260420T032143
CREATED:20240705T050953Z
LAST-MODIFIED:20241121T012312Z
UID:10000032-1751392800-1751401800@www.ozarkscoinclub.org
SUMMARY:Club Meetings
DESCRIPTION:Social Time starts at 6:00 p.m. \nMeeting starts at 6:30 p.m.
URL:https://www.ozarkscoinclub.org/event/club-meetings/2025-07-01/
LOCATION:Discovery Center\, 438 East St. Louis Street\, Springfield\, MO\, 65806\, United States
END:VEVENT
BEGIN:VEVENT
DTSTART;TZID=America/Chicago:20250708T173000
DTEND;TZID=America/Chicago:20250708T220000
DTSTAMP:20260420T032143
CREATED:20250413T004733Z
LAST-MODIFIED:20250413T004733Z
UID:10000163-1751995800-1752012000@www.ozarkscoinclub.org
SUMMARY:Second Tuesday Coin & Sports Card Auction
DESCRIPTION:The Second Tuesday Coin and Sports Card Auction \nPlease see the attached Flyer. (Flyer is For June\, but they are every month)
URL:https://www.ozarkscoinclub.org/event/second-tuesday-coin-sports-card-auction/2025-07-08/
LOCATION:Border Town Auction House\, 611 Main\, Mindenmines\, MO\, 64769\, United States
END:VEVENT
BEGIN:VEVENT
DTSTART;TZID=America/Chicago:20250708T180000
DTEND;TZID=America/Chicago:20250708T200000
DTSTAMP:20260420T032143
CREATED:20240705T051217Z
LAST-MODIFIED:20240705T051217Z
UID:10000088-1751997600-1752004800@www.ozarkscoinclub.org
SUMMARY:Board Meeting
DESCRIPTION:Board Meeting starts at 6:00 p.m.
URL:https://www.ozarkscoinclub.org/event/board-meeting/2025-07-08/
LOCATION:Discovery Center\, 438 East St. Louis Street\, Springfield\, MO\, 65806\, United States
END:VEVENT
END:VCALENDAR