BEGIN:VCALENDAR
VERSION:2.0
PRODID:-//Ozarks Coin Club - ECPv6.15.20//NONSGML v1.0//EN
CALSCALE:GREGORIAN
METHOD:PUBLISH
X-ORIGINAL-URL:https://www.ozarkscoinclub.org
X-WR-CALDESC:Events for Ozarks Coin Club
REFRESH-INTERVAL;VALUE=DURATION:PT1H
X-Robots-Tag:noindex
X-PUBLISHED-TTL:PT1H
BEGIN:VTIMEZONE
TZID:America/Chicago
BEGIN:DAYLIGHT
TZOFFSETFROM:-0600
TZOFFSETTO:-0500
TZNAME:CDT
DTSTART:20240310T080000
END:DAYLIGHT
BEGIN:STANDARD
TZOFFSETFROM:-0500
TZOFFSETTO:-0600
TZNAME:CST
DTSTART:20241103T070000
END:STANDARD
BEGIN:DAYLIGHT
TZOFFSETFROM:-0600
TZOFFSETTO:-0500
TZNAME:CDT
DTSTART:20250309T080000
END:DAYLIGHT
BEGIN:STANDARD
TZOFFSETFROM:-0500
TZOFFSETTO:-0600
TZNAME:CST
DTSTART:20251102T070000
END:STANDARD
BEGIN:DAYLIGHT
TZOFFSETFROM:-0600
TZOFFSETTO:-0500
TZNAME:CDT
DTSTART:20260308T080000
END:DAYLIGHT
BEGIN:STANDARD
TZOFFSETFROM:-0500
TZOFFSETTO:-0600
TZNAME:CST
DTSTART:20261101T070000
END:STANDARD
END:VTIMEZONE
BEGIN:VEVENT
DTSTART;TZID=America/Chicago:20251202T180000
DTEND;TZID=America/Chicago:20251202T210000
DTSTAMP:20260419T155334
CREATED:20241121T012647Z
LAST-MODIFIED:20241121T012647Z
UID:10000149-1764698400-1764709200@www.ozarkscoinclub.org
SUMMARY:Annual Christmas Banquet
DESCRIPTION:Annual Christmas Banquet \nStarts @ 6:00 p.m.
URL:https://www.ozarkscoinclub.org/event/annual-christmas-banquet/2025-12-02/
LOCATION:Discovery Center\, 438 East St. Louis Street\, Springfield\, MO\, 65806\, United States
END:VEVENT
BEGIN:VEVENT
DTSTART;TZID=America/Chicago:20251206T090000
DTEND;TZID=America/Chicago:20251206T160000
DTSTAMP:20260419T155334
CREATED:20251012T022622Z
LAST-MODIFIED:20251012T022629Z
UID:10000175-1765011600-1765036800@www.ozarkscoinclub.org
SUMMARY:1st Annual Joplin Coin Show
DESCRIPTION:Please see the attached file. \nJoplin Coin Show
URL:https://www.ozarkscoinclub.org/event/1st-annual-joplin-coin-show/
LOCATION:VFW Hall\, 100 Veterans Way\, Joplin\, MO\, 64801\, United States
CATEGORIES:Shows
END:VEVENT
BEGIN:VEVENT
DTSTART;TZID=America/Chicago:20251209T173000
DTEND;TZID=America/Chicago:20251209T220000
DTSTAMP:20260419T155334
CREATED:20250413T004733Z
LAST-MODIFIED:20250413T004733Z
UID:10000168-1765301400-1765317600@www.ozarkscoinclub.org
SUMMARY:Second Tuesday Coin & Sports Card Auction
DESCRIPTION:The Second Tuesday Coin and Sports Card Auction \nPlease see the attached Flyer. (Flyer is For June\, but they are every month)
URL:https://www.ozarkscoinclub.org/event/second-tuesday-coin-sports-card-auction/2025-12-09/
LOCATION:Border Town Auction House\, 611 Main\, Mindenmines\, MO\, 64769\, United States
END:VEVENT
BEGIN:VEVENT
DTSTART;TZID=America/Chicago:20251209T180000
DTEND;TZID=America/Chicago:20251209T200000
DTSTAMP:20260419T155334
CREATED:20240705T051217Z
LAST-MODIFIED:20240705T051217Z
UID:10000093-1765303200-1765310400@www.ozarkscoinclub.org
SUMMARY:Board Meeting
DESCRIPTION:Board Meeting starts at 6:00 p.m.
URL:https://www.ozarkscoinclub.org/event/board-meeting/2025-12-09/
LOCATION:Discovery Center\, 438 East St. Louis Street\, Springfield\, MO\, 65806\, United States
END:VEVENT
END:VCALENDAR