BEGIN:VCALENDAR
VERSION:2.0
PRODID:-//Ozarks Coin Club - ECPv6.15.20//NONSGML v1.0//EN
CALSCALE:GREGORIAN
METHOD:PUBLISH
X-WR-CALNAME:Ozarks Coin Club
X-ORIGINAL-URL:https://www.ozarkscoinclub.org
X-WR-CALDESC:Events for Ozarks Coin Club
REFRESH-INTERVAL;VALUE=DURATION:PT1H
X-Robots-Tag:noindex
X-PUBLISHED-TTL:PT1H
BEGIN:VTIMEZONE
TZID:America/Chicago
BEGIN:DAYLIGHT
TZOFFSETFROM:-0600
TZOFFSETTO:-0500
TZNAME:CDT
DTSTART:20230312T080000
END:DAYLIGHT
BEGIN:STANDARD
TZOFFSETFROM:-0500
TZOFFSETTO:-0600
TZNAME:CST
DTSTART:20231105T070000
END:STANDARD
BEGIN:DAYLIGHT
TZOFFSETFROM:-0600
TZOFFSETTO:-0500
TZNAME:CDT
DTSTART:20240310T080000
END:DAYLIGHT
BEGIN:STANDARD
TZOFFSETFROM:-0500
TZOFFSETTO:-0600
TZNAME:CST
DTSTART:20241103T070000
END:STANDARD
BEGIN:DAYLIGHT
TZOFFSETFROM:-0600
TZOFFSETTO:-0500
TZNAME:CDT
DTSTART:20250309T080000
END:DAYLIGHT
BEGIN:STANDARD
TZOFFSETFROM:-0500
TZOFFSETTO:-0600
TZNAME:CST
DTSTART:20251102T070000
END:STANDARD
END:VTIMEZONE
BEGIN:VEVENT
DTSTART;TZID=America/Chicago:20240517T110000
DTEND;TZID=America/Chicago:20240518T140000
DTSTAMP:20260419T094116
CREATED:20240225T023312Z
LAST-MODIFIED:20240225T023312Z
UID:10000013-1715943600-1716040800@www.ozarkscoinclub.org
SUMMARY:64th Annual Coin & Hobby Show
DESCRIPTION:Sedalia Show May \nPlease see the attached Flyer.
URL:https://www.ozarkscoinclub.org/event/64th-annual-coin-hobby-show/
LOCATION:Knights of Columbus Hall\, 1708 Elm Hills Blvd & S. 65 Hwy\, Sedalia\, MO\, United States
ORGANIZER;CN="Larry Grinstead":MAILTO:grnstd@sbcglobal.net
END:VEVENT
END:VCALENDAR