BEGIN:VCALENDAR
VERSION:2.0
PRODID:-//Ozarks Coin Club - ECPv6.15.20//NONSGML v1.0//EN
CALSCALE:GREGORIAN
METHOD:PUBLISH
X-ORIGINAL-URL:https://www.ozarkscoinclub.org
X-WR-CALDESC:Events for Ozarks Coin Club
REFRESH-INTERVAL;VALUE=DURATION:PT1H
X-Robots-Tag:noindex
X-PUBLISHED-TTL:PT1H
BEGIN:VTIMEZONE
TZID:America/Chicago
BEGIN:DAYLIGHT
TZOFFSETFROM:-0600
TZOFFSETTO:-0500
TZNAME:CDT
DTSTART:20230312T080000
END:DAYLIGHT
BEGIN:STANDARD
TZOFFSETFROM:-0500
TZOFFSETTO:-0600
TZNAME:CST
DTSTART:20231105T070000
END:STANDARD
BEGIN:DAYLIGHT
TZOFFSETFROM:-0600
TZOFFSETTO:-0500
TZNAME:CDT
DTSTART:20240310T080000
END:DAYLIGHT
BEGIN:STANDARD
TZOFFSETFROM:-0500
TZOFFSETTO:-0600
TZNAME:CST
DTSTART:20241103T070000
END:STANDARD
BEGIN:DAYLIGHT
TZOFFSETFROM:-0600
TZOFFSETTO:-0500
TZNAME:CDT
DTSTART:20250309T080000
END:DAYLIGHT
BEGIN:STANDARD
TZOFFSETFROM:-0500
TZOFFSETTO:-0600
TZNAME:CST
DTSTART:20251102T070000
END:STANDARD
BEGIN:DAYLIGHT
TZOFFSETFROM:-0600
TZOFFSETTO:-0500
TZNAME:CDT
DTSTART:20260308T080000
END:DAYLIGHT
BEGIN:STANDARD
TZOFFSETFROM:-0500
TZOFFSETTO:-0600
TZNAME:CST
DTSTART:20261101T070000
END:STANDARD
END:VTIMEZONE
BEGIN:VEVENT
DTSTART;TZID=America/Chicago:20250402T120000
DTEND;TZID=America/Chicago:20250405T150000
DTSTAMP:20260423T114044
CREATED:20240405T181123Z
LAST-MODIFIED:20240405T181123Z
UID:10000020-1743595200-1743865200@www.ozarkscoinclub.org
SUMMARY:3rd Annual Christal Clear Coin Show
DESCRIPTION:
URL:https://www.ozarkscoinclub.org/event/3rd-annual-christal-clear-coin-show/
LOCATION:Harrah’s Casino Hotel & Convention Center\, 1 Riverboard Drive\, North Kansas City\, MO\, 64116\, United States
ORGANIZER;CN="Chris Seuntjens":MAILTO:chris@ccshowcases.com
END:VEVENT
BEGIN:VEVENT
DTSTART;TZID=America/Chicago:20240405T070000
DTEND;TZID=America/Chicago:20240405T200000
DTSTAMP:20260423T114044
CREATED:20240112T031813Z
LAST-MODIFIED:20240317T004344Z
UID:10000011-1712300400-1712347200@www.ozarkscoinclub.org
SUMMARY:Kansas City Bus Trip to Christal Clean Coin Show
DESCRIPTION:Kansas City Bus Trip to the Christal Clear Coin Show. \nBus will leave the Discovery Center @ 7:00am \nYN’s that attend will receive $30 to spend at the show. \nBus will stop on way back somewhere to eat\, Club will pay for YN’s Dinner.
URL:https://www.ozarkscoinclub.org/event/kansas-city-bus-trip/
LOCATION:Harrah’s Casino Hotel & Convention Center\, 1 Riverboard Drive\, North Kansas City\, MO\, 64116\, United States
END:VEVENT
END:VCALENDAR